BEGIN:VCALENDAR
VERSION:2.0
PRODID:-//NYC Atheists - ECPv6.15.10//NONSGML v1.0//EN
CALSCALE:GREGORIAN
METHOD:PUBLISH
X-WR-CALNAME:NYC Atheists
X-ORIGINAL-URL:https://nycatheists.org
X-WR-CALDESC:Events for NYC Atheists
REFRESH-INTERVAL;VALUE=DURATION:PT1H
X-Robots-Tag:noindex
X-PUBLISHED-TTL:PT1H
BEGIN:VTIMEZONE
TZID:America/New_York
BEGIN:DAYLIGHT
TZOFFSETFROM:-0500
TZOFFSETTO:-0400
TZNAME:EDT
DTSTART:20240310T070000
END:DAYLIGHT
BEGIN:STANDARD
TZOFFSETFROM:-0400
TZOFFSETTO:-0500
TZNAME:EST
DTSTART:20241103T060000
END:STANDARD
BEGIN:DAYLIGHT
TZOFFSETFROM:-0500
TZOFFSETTO:-0400
TZNAME:EDT
DTSTART:20250309T070000
END:DAYLIGHT
BEGIN:STANDARD
TZOFFSETFROM:-0400
TZOFFSETTO:-0500
TZNAME:EST
DTSTART:20251102T060000
END:STANDARD
BEGIN:DAYLIGHT
TZOFFSETFROM:-0500
TZOFFSETTO:-0400
TZNAME:EDT
DTSTART:20260308T070000
END:DAYLIGHT
BEGIN:STANDARD
TZOFFSETFROM:-0400
TZOFFSETTO:-0500
TZNAME:EST
DTSTART:20261101T060000
END:STANDARD
END:VTIMEZONE
BEGIN:VEVENT
DTSTART;TZID=America/New_York:20250330T130000
DTEND;TZID=America/New_York:20250330T150000
DTSTAMP:20260420T050455
CREATED:20250315T015553Z
LAST-MODIFIED:20250325T164826Z
UID:45448-1743339600-1743346800@nycatheists.org
SUMMARY:Lunch Meeting
DESCRIPTION:NYC Atheists Lunch Meeting\n5th Sundays: 1:00PM-3:00PM\nPhebe’s Tavern & Grill\nAll are welcome! \nRestaurant Location\, Don’t Bring Food or Drink\nDonations Appreciated but Not Required \nClick on our calendar or Meetup page to get connected.\nDiscussion Topic: TBD\nDefault Location:\nPhebe’s Tavern & Grill\n359 Bowery\nNew York NY 10003-7127\nSE Corner of 4th & Bowery\n+1 (212)-358-1902\ninfo@phebesnyc.com\n@phebestavernnyc\n@phebesnyc\n@phebes-new-york \n\nLocation is subject to change. Check our website calendar and Meetup page for updates and changes.\nThe table is most likely in the back room\, which is subject to change. Ask for Dennis’s table.\n\nClosest Transit:\nM103: Bowery/E 3 St\, Cooper Sq/E 4 St\nM15: 2 Av/E 3 St\, 1 Av/4 St\n6: Bleeker St\nM1\, M55: Broadway/E 3 St\nB\, D\, F\, M: Broadway-Lafayette St\nM21: E Houston St/Bowery\, E Houston St/Mott St\nF: 2nd Av\nR\, W: Prince St \nRULES \nMeetings are private despite being open to the public. Recordings are prohibited. You may share what you learned\, but not direct quotes and identities. \nLet it be known and agreed upon\, that NYC Atheists Inc. is a §501(c)(3) non-partisan\, nonprofit educational organization. We are obligated to follow all the rules required by the IRS. Therefore\, according to the IRS\, There will be NO ELECTIONEERING either by discussing or by electronic means of either approving or disapproving a “Candidate or any Process” thereof as written in the IRS’s §501(c)(3) requirements. Otherwise\, at our discretion only\, we will stop the unapproved discussion and or display by the individual we feel is at fault for that action. If one persists in going against this bylaw or is very disruptive\, that we have the right to remove that person or persons from our meetings and report them to the appropriate authorities. \nBy joining in our meeting\, you have agreed to follow the above Statement.
URL:https://nycatheists.org/event/lunch-meeting/
LOCATION:Phebe’s Tavern & Grill\, 359 Bowery\, New York\, NY\, 10003-7127\, United States
END:VEVENT
END:VCALENDAR