BEGIN:VCALENDAR
VERSION:2.0
PRODID:-//NYC Atheists - ECPv6.15.10//NONSGML v1.0//EN
CALSCALE:GREGORIAN
METHOD:PUBLISH
X-WR-CALNAME:NYC Atheists
X-ORIGINAL-URL:https://nycatheists.org
X-WR-CALDESC:Events for NYC Atheists
REFRESH-INTERVAL;VALUE=DURATION:PT1H
X-Robots-Tag:noindex
X-PUBLISHED-TTL:PT1H
BEGIN:VTIMEZONE
TZID:America/New_York
BEGIN:DAYLIGHT
TZOFFSETFROM:-0500
TZOFFSETTO:-0400
TZNAME:EDT
DTSTART:20230312T070000
END:DAYLIGHT
BEGIN:STANDARD
TZOFFSETFROM:-0400
TZOFFSETTO:-0500
TZNAME:EST
DTSTART:20231105T060000
END:STANDARD
BEGIN:DAYLIGHT
TZOFFSETFROM:-0500
TZOFFSETTO:-0400
TZNAME:EDT
DTSTART:20240310T070000
END:DAYLIGHT
BEGIN:STANDARD
TZOFFSETFROM:-0400
TZOFFSETTO:-0500
TZNAME:EST
DTSTART:20241103T060000
END:STANDARD
BEGIN:DAYLIGHT
TZOFFSETFROM:-0500
TZOFFSETTO:-0400
TZNAME:EDT
DTSTART:20250309T070000
END:DAYLIGHT
BEGIN:STANDARD
TZOFFSETFROM:-0400
TZOFFSETTO:-0500
TZNAME:EST
DTSTART:20251102T060000
END:STANDARD
END:VTIMEZONE
BEGIN:VEVENT
DTSTART;TZID=America/New_York:20241112T200000
DTEND;TZID=America/New_York:20241112T220000
DTSTAMP:20260420T114757
CREATED:20241106T202751Z
LAST-MODIFIED:20241113T192039Z
UID:44923-1731441600-1731448800@nycatheists.org
SUMMARY:Post-election Town Hall (American Atheists)
DESCRIPTION:Join American Atheists staff and volunteers for a virtual Town Hall in response to the recent election and the significant shifts we’re seeing in U.S. leadership. With Donald Trump and Christian Nationalist allies taking control of the White House and Senate\, our secular community faces new challenges as we work to uphold the separation of religion and government. While the majority of Americans reaffirmed their support for public education\, reproductive rights\, and other secular policies\, voters simultaneously elected leaders who oppose them. American Atheists is committed to bold and fearless advocacy during this critical time\, and we invite you to join us for an open discussion on our action plans\, concerns\, and opportunities to protect civil rights in the years ahead. \nPS: Read our full statement on the election results\, and register to attend our virtual town hall on Tuesday\, November 12th. Our staff will do a deep dive on the election results\, discuss the challenges and plans ahead\, and answer your questions about the work to come. \nAmerican Atheists is a 501(c)(3) non-partisan\, nonprofit educational organization that relies on the support of members like you. Contributions are tax-deductible. Our Federal Tax ID Number is 74-2466507 and our Combined Federal Campaign number is 52217. \nAmerican Atheists\n225 Cristiani Street\nCranford\, NJ 07016\nUnited States\n\nRegister on Zoom. View Meetup event or blog post. View post meeting blog post.
URL:https://nycatheists.org/event/post-election-town-hall-american-atheists/
LOCATION:New York\, NY\, United States
CATEGORIES:ALL,American Atheists
END:VEVENT
END:VCALENDAR