BEGIN:VCALENDAR
VERSION:2.0
PRODID:-//NYC Atheists - ECPv6.15.10//NONSGML v1.0//EN
CALSCALE:GREGORIAN
METHOD:PUBLISH
X-ORIGINAL-URL:https://nycatheists.org
X-WR-CALDESC:Events for NYC Atheists
REFRESH-INTERVAL;VALUE=DURATION:PT1H
X-Robots-Tag:noindex
X-PUBLISHED-TTL:PT1H
BEGIN:VTIMEZONE
TZID:America/New_York
BEGIN:DAYLIGHT
TZOFFSETFROM:-0500
TZOFFSETTO:-0400
TZNAME:EDT
DTSTART:20230312T070000
END:DAYLIGHT
BEGIN:STANDARD
TZOFFSETFROM:-0400
TZOFFSETTO:-0500
TZNAME:EST
DTSTART:20231105T060000
END:STANDARD
BEGIN:DAYLIGHT
TZOFFSETFROM:-0500
TZOFFSETTO:-0400
TZNAME:EDT
DTSTART:20240310T070000
END:DAYLIGHT
BEGIN:STANDARD
TZOFFSETFROM:-0400
TZOFFSETTO:-0500
TZNAME:EST
DTSTART:20241103T060000
END:STANDARD
BEGIN:DAYLIGHT
TZOFFSETFROM:-0500
TZOFFSETTO:-0400
TZNAME:EDT
DTSTART:20250309T070000
END:DAYLIGHT
BEGIN:STANDARD
TZOFFSETFROM:-0400
TZOFFSETTO:-0500
TZNAME:EST
DTSTART:20251102T060000
END:STANDARD
END:VTIMEZONE
BEGIN:VEVENT
DTSTART;TZID=America/New_York:20240627T200000
DTEND;TZID=America/New_York:20240627T230000
DTSTAMP:20260420T205346
CREATED:20240612T005556Z
LAST-MODIFIED:20240626T174300Z
UID:44701-1719518400-1719529200@nycatheists.org
SUMMARY:Preconceived Film Webinar
DESCRIPTION:WEBINAR\nPRECONCEIVED: A DEEPER LOOK INTO THE\nDARK SIDE OF CRISIS PREGNANCY CENTERS\nJUNE 27\, 8:00 PM ET \nWe are hosting a special screening and follow up\ndiscussion with our expert panelists. \nCrisis pregnancy centers (CPCs) pose as medical facilities  when they are\, in fact\, anti-abortion organizations that utilize bullying and misinformation to prevent pregnant people from accessing abortion care. There are thousands of these “fake clinics” across the United States\, and many states provide millions of dollars to support them each year. Yet\, few people understand their true nature.  Preconceived tells the stories of Maleeha and Maria\, two women who\, while navigating unplanned pregnancies\, inadvertently found themselves at CPCs discouraging them from abortions. The film is a window into these enigmatic centers. Shedding light on how many of these centers are a part of a movement striving to make abortion unthinkable and illegal\, the documentary explores the complex role of deception\, finances\, faith\, and privacy. Amid a shifting legal landscape\, Preconceived underscores the significance of understanding the resources available to pregnant people. \nRegister for the panel here. Then to watch the film before the webinar\, register here using the invitation code PRF-0524. \n \nOur Presenters \nDr. Grace Tillyard is an adjunct professor at the Centre for Women’s and Gender Studies at FIU. Tillyard is a feminist researcher\, writer\, educator and organizer whose expertise covers reproductive rights/justice in the United States. She has researched extensively and written about the anti-abortion and crisis-pregnancy movement in the state of Florida. \nLaila Salaam is a young reproductive justice activist. As a recent graduate from the George Washington University\, Laila has taken her passion for international affairs and reproductive justice out of the classroom and into a career focused on educating her generation on reproductive justice. Laila currently serves as the Lead Organizer at Reproaction where she is an advocate for self-managed abortion with pills\, D.C. statehood\, and expanded sexual health education. Laila is also pursuing her passion for reproductive justice through the Youth Organizing Fellowship with Americans United for Separation of Church and State and as a book club lead for HEART Women and Girls\, empowering Muslims to have open and honest conversation about sexual health and relationships. \nDevon Graham (she/her) is an assistant professor in biomedical sciences at an unnamed state university in Tallahassee. In her spare time\, she is the leader of the local secular group\, Humanists of Tallahassee (HOT)\, and an assistant state director for American Atheists\, for which she spends a decent chunk of her vacation time at the Florida Capitol\, fighting the attacks on state/church separation\, abortion\, and LGBTQ+ rights. For these efforts\, she has won their Rising Star Award in 2020\, the Atheist Activist of the Year in 2021\, and their Secular Advocate of the Year in 2023. \nAmerican Atheists is a 501(c)(3) non-partisan\, nonprofit educational organization that relies on the support of members like you. Contributions are tax-deductible. Our Federal Tax ID Number is 74-2466507 and our Combined Federal Campaign number is 52217. \nAmerican Atheists\n225 Cristiani Street\nCranford\, NJ 07016\nUnited States \n\n\nSee Meetup event\, venue page\, and blog post for more details.\nSee Film Platform streaming page or film website to watch film.\nRegister for the Zoom Webinar and join to discuss after watching.
URL:https://nycatheists.org/event/preconceived/
LOCATION:American Atheists Zoom\, New York\, NY\, United States
END:VEVENT
END:VCALENDAR