BEGIN:VCALENDAR
VERSION:2.0
PRODID:-//NYC Atheists - ECPv6.15.10//NONSGML v1.0//EN
CALSCALE:GREGORIAN
METHOD:PUBLISH
X-WR-CALNAME:NYC Atheists
X-ORIGINAL-URL:https://nycatheists.org
X-WR-CALDESC:Events for NYC Atheists
REFRESH-INTERVAL;VALUE=DURATION:PT1H
X-Robots-Tag:noindex
X-PUBLISHED-TTL:PT1H
BEGIN:VTIMEZONE
TZID:America/New_York
BEGIN:DAYLIGHT
TZOFFSETFROM:-0500
TZOFFSETTO:-0400
TZNAME:EDT
DTSTART:20230312T070000
END:DAYLIGHT
BEGIN:STANDARD
TZOFFSETFROM:-0400
TZOFFSETTO:-0500
TZNAME:EST
DTSTART:20231105T060000
END:STANDARD
BEGIN:DAYLIGHT
TZOFFSETFROM:-0500
TZOFFSETTO:-0400
TZNAME:EDT
DTSTART:20240310T070000
END:DAYLIGHT
BEGIN:STANDARD
TZOFFSETFROM:-0400
TZOFFSETTO:-0500
TZNAME:EST
DTSTART:20241103T060000
END:STANDARD
BEGIN:DAYLIGHT
TZOFFSETFROM:-0500
TZOFFSETTO:-0400
TZNAME:EDT
DTSTART:20250309T070000
END:DAYLIGHT
BEGIN:STANDARD
TZOFFSETFROM:-0400
TZOFFSETTO:-0500
TZNAME:EST
DTSTART:20251102T060000
END:STANDARD
END:VTIMEZONE
BEGIN:VEVENT
DTSTART;TZID=America/New_York:20241206T190000
DTEND;TZID=America/New_York:20241206T210000
DTSTAMP:20260420T034133
CREATED:20240417T053114Z
LAST-MODIFIED:20250525T224258Z
UID:45247-1733511600-1733518800@nycatheists.org
SUMMARY:In-Person Meeting
DESCRIPTION:NYC Atheists In-Person Meeting\n1st & 4th Fridays: 7:00PM-9:00PM\nNYSEC Meeting House: Ceremonial Hall\nAll are welcome! \nBYOB (no hard liquors)/Potluck\nDonations Appreciated but Not Required \nDonate Here via Ethical NYC to Support this Event\nhttps://ethicalnyc.app.neoncrm.com/forms/54 \nClick on our calendar or Meetup page to get connected.\nDefault Location: \nNew York Society for Ethical Culture\n2 W 64th St\nNew York NY 10023-7179\n+1 (212) 874-5210\ninfo@nysec.org\nhttps://ethical.nyc/\nhttps://www.meetup.com/ethicalnyc/ \n\nLocation is subject to change for special events. Check website calendars and Meetup pages for various groups for updates and changes.\nDefault room is Ceremonial on the 4th Room is subject to change depending on capacity or activity. Check for any posted signs.\nUse the wheelchair ramp entrance at the Meeting House NOT the Fieldston School. Press both doorbells if the door is locked. The elevator and stairs are right there to take to the 4thfloor.\n\nClosest Transit: \n1: 66 St-Lincoln Center\nA\, B\, C\, D\, 1: 59 St-Columbus Circle\nM10: Central Park W/W 64 St\nM10\, M20: Central Park W/W 63 St\nM66: W 65 St/Central Park W\nM5\, M7\, M104: Broadway/W 63 St \nOur friends at various groups are cross-posting this event. Some groups have after-parties. \nHumanist Happy Hour\nBrooklyn Society for Ethical Culture\nhttps://bsec.org/events/\nhttps://www.meetup.com/brooklyn-society-for-ethical-culture/ \nDrinking Inquisitively\nCenter for Inquiry – NYC Branch\nhttps://cfi-nyc.org/\nhttps://www.meetup.com/cfinyc/ \nHumanist Happy Hour\nThe City Congregation for Humanistic Judaism\nhttps://citycongregation.org/events-calendar/ \nFTI: Thinkers Multi-group BYOB potluck\nFree Thinker Institute\nhttps://www.freethinkerinstitute.org/events/\nhttps://www.meetup.com/freethinkerinstitute/ \nLive DWA\nGotham Atheists\nhttps://gothamatheists.org/\nhttps://www.meetup.com/GothamAtheists/ \nHumanist Happy Hour\nNew York Society for Ethical Culture\nhttps://ethical.nyc/events\nhttps://www.meetup.com/ethicalnyc/ \nNYC Atheists In-Person Meeting\nhttps://nycatheists.org/calendar/\nhttps://www.meetup.com/nycatheists/ \nCross-group Happy Hour at Ethical Culture\nSecular Humanists Society of New York\nhttps://www.shsny.org/events-calendar\nhttps://www.meetup.com/shsny-org/ \nRULES for In-Person Meeting: \n\nGROUP PROMOTION: Each group may bring flyers or posters advertising membership\, donations\, and meetings.\nDRINKING: Bring your own booze should be limited to beer and wine\, no hard liquors. Everyone should drink responsibly and don’t get sloshed. Save the hard drinking for the after parties in outside bars.\nRESPECT FOR DIFFERENCES: While there is overlap among the groups\, not every group is the same and thinks the same. Respect each other’s differences and different ideologies. Look for common ground not for things to hate. We’re all friends here\, treat each other as such.\nARGUMENTS: Listen to each other’s opinion completely in good faith. Ask questions about other’s points instead of immediately dismissing. Approach taboo subjects–such as sex\, religion\, and politics–with strangers cautiously; back out if getting heated. Agree to disagree and walk away if necessary.\nRESPECT FOR THE MEETING HOUSE: Use appropriate trash/recycling cans and clean up after yourselves. Leave the Meeting House better than you found it. Respect the neighborhood\, don’t act foolishly on the streets when entering and leaving or loitering.\nNO ELECTIONEERING: Due to tax restrictions for many groups being §501(c)(3) tax-exempt\, do not discuss\, promote\, denigrate\, or leave/display/hand out materials for any candidate\, campaign\, party\, or proposition on any upcoming election. No electioneering during the event. Other activities prohibited by tax-restrictions are also not allowed.\nSELF-RECOGNITION: Try to speak from your own experiences and own your intentions and impacts. Recognize your own privileges and different backgrounds.\nCONFIDENTIALITY: Meetings are private despite being open to the public. Recordings are prohibited. You may share what you learned\, but not direct quotes and identities.\nMEETING MODERATION: The organizers\, hosts\, co-hosts\, moderators\, and discussion leaders will use various methods available to ensure compliance with the rules and maintain decorum.\n\nAttending any meeting or event implies agreement with the above rules.
URL:https://nycatheists.org/event/in-person-meeting-2-2024-11-22-2024-12-06/
LOCATION:NYSEC Meeting House: Ceremonial Hall\, 2 W 64th St\, New York\, NY\, 10023-7179\, United States
CATEGORIES:ALL,In-Person
END:VEVENT
BEGIN:VEVENT
DTSTART;TZID=America/New_York:20241227T190000
DTEND;TZID=America/New_York:20241227T210000
DTSTAMP:20260420T034133
CREATED:20240417T053114Z
LAST-MODIFIED:20241215T020102Z
UID:45248-1735326000-1735333200@nycatheists.org
SUMMARY:In-Person Meeting
DESCRIPTION:The regular 4th Friday Cross-Group Event is cancelled because the NYSEC Meeting House is closed for the holiday weekend. Please\, join us for the 1st & 4th Fridays of 2025. For 12/27\, please\, attend Gotham Atheists’ Live DWA at The Irish Exit. \nLive DWA – Gotham Atheists – 4th Friday Dec 27 8:00PM-11:00PM – Meetup\nhttps://www.meetup.com/gothamatheists/events/304976366/ \nSpecial Location: \nPennsylvania Station\nMoynihan Train Hall Food Hall\nThe Irish Exit Seating Area\n421 8th Ave\nNew York NY 10001-7800\nhello@irishexit.com\nhttps://moynihantrainhall.nyc/ \n\nCheck website calendars and Meetup pages for various groups for updates and changes.\nHarry is the Point of Contact\, reachable at +1 (929) 251-3570. Call\, don’t text.\n\nClosest Transit: \n1\,2\,3\,A\,C\,E: 34 St-Penn Station\nB\,D\,G\,M\,N\,Q\,R\,W: 34 St-Herald Square\nAmtrak\,LIRR\,NJT: Penn Station\nPATH: 33 St\nM34-SBS\,SIM23\,SIM24: W 34 St/8 Av\nM20: 8 Ave/W 31 St\nM11: 9 Ave/W 30 St\nM7: 7 Ave/W 31 St \nThe following is the regular meeting description:\n\nNYC Atheists In-Person Meeting\n1st & 4th Fridays: 7:00PM-9:00PM\nNYSEC Meeting House: Ceremonial Hall\nAll are welcome! \nBYOB (no hard liquors)/Potluck\nDonations Appreciated but Not Required \nDonate Here via Ethical NYC to Support this Event\nhttps://ethicalnyc.app.neoncrm.com/forms/54 \nClick on our calendar or Meetup page to get connected.\nDefault Location: \nNew York Society for Ethical Culture\n2 W 64th St\nNew York NY 10023-7179\n+1 (212) 874-5210\ninfo@nysec.org\nhttps://ethical.nyc/\nhttps://www.meetup.com/ethicalnyc/ \n\nLocation is subject to change for special events. Check website calendars and Meetup pages for various groups for updates and changes.\nDefault room is Ceremonial on the 4th Room is subject to change depending on capacity or activity. Check for any posted signs.\nUse the wheelchair ramp entrance at the Meeting House NOT the Fieldston School. Press both doorbells if the door is locked. The elevator and stairs are right there to take to the 4thfloor.\n\nClosest Transit: \n1: 66 St-Lincoln Center\nA\, B\, C\, D\, 1: 59 St-Columbus Circle\nM10: Central Park W/W 64 St\nM10\, M20: Central Park W/W 63 St\nM66: W 65 St/Central Park W\nM5\, M7\, M104: Broadway/W 63 St \nOur friends at various groups are cross-posting this event. Some groups have after-parties. \nHumanist Happy Hour\nBrooklyn Society for Ethical Culture\nhttps://bsec.org/events/\nhttps://www.meetup.com/brooklyn-society-for-ethical-culture/ \nDrinking Inquisitively\nCenter for Inquiry – NYC Branch\nhttps://cfi-nyc.org/\nhttps://www.meetup.com/cfinyc/ \nHumanist Happy Hour\nThe City Congregation for Humanistic Judaism\nhttps://citycongregation.org/events-calendar/ \nFTI: Thinkers Multi-group BYOB potluck\nFree Thinker Institute\nhttps://www.freethinkerinstitute.org/events/\nhttps://www.meetup.com/freethinkerinstitute/ \nLive DWA\nGotham Atheists\nhttps://gothamatheists.org/\nhttps://www.meetup.com/GothamAtheists/ \nHumanist Happy Hour\nNew York Society for Ethical Culture\nhttps://ethical.nyc/events\nhttps://www.meetup.com/ethicalnyc/ \nNYC Atheists In-Person Meeting\nhttps://nycatheists.org/calendar/\nhttps://www.meetup.com/nycatheists/ \nCross-group Happy Hour at Ethical Culture\nSecular Humanists Society of New York\nhttps://www.shsny.org/events-calendar\nhttps://www.meetup.com/shsny-org/ \nRULES for In-Person Meeting: \n\nGROUP PROMOTION: Each group may bring flyers or posters advertising membership\, donations\, and meetings.\nDRINKING: Bring your own booze should be limited to beer and wine\, no hard liquors. Everyone should drink responsibly and don’t get sloshed. Save the hard drinking for the after parties in outside bars.\nRESPECT FOR DIFFERENCES: While there is overlap among the groups\, not every group is the same and thinks the same. Respect each other’s differences and different ideologies. Look for common ground not for things to hate. We’re all friends here\, treat each other as such.\nARGUMENTS: Listen to each other’s opinion completely in good faith. Ask questions about other’s points instead of immediately dismissing. Approach taboo subjects–such as sex\, religion\, and politics–with strangers cautiously; back out if getting heated. Agree to disagree and walk away if necessary.\nRESPECT FOR THE MEETING HOUSE: Use appropriate trash/recycling cans and clean up after yourselves. Leave the Meeting House better than you found it. Respect the neighborhood\, don’t act foolishly on the streets when entering and leaving or loitering.\nNO ELECTIONEERING: Due to tax restrictions for many groups being §501(c)(3) tax-exempt\, do not discuss\, promote\, denigrate\, or leave/display/hand out materials for any candidate\, campaign\, party\, or proposition on any upcoming election. No electioneering during the event. Other activities prohibited by tax-restrictions are also not allowed.\nSELF-RECOGNITION: Try to speak from your own experiences and own your intentions and impacts. Recognize your own privileges and different backgrounds.\nCONFIDENTIALITY: Meetings are private despite being open to the public. Recordings are prohibited. You may share what you learned\, but not direct quotes and identities.\nMEETING MODERATION: The organizers\, hosts\, co-hosts\, moderators\, and discussion leaders will use various methods available to ensure compliance with the rules and maintain decorum.\n\nAttending any meeting or event implies agreement with the above rules.
URL:https://nycatheists.org/event/in-person-meeting-2-2024-11-22-2024-12-27/
LOCATION:DWA\, 23rd St Between Broadway & Madison Ave\, New York\, NY\, 10010\, United States
CATEGORIES:ALL,In-Person
END:VEVENT
BEGIN:VEVENT
DTSTART;TZID=America/New_York:20241227T190000
DTEND;TZID=America/New_York:20241227T210000
DTSTAMP:20260420T034133
CREATED:20240417T053114Z
LAST-MODIFIED:20240417T053114Z
UID:45594-1735326000-1735333200@nycatheists.org
SUMMARY:In-Person Meeting
DESCRIPTION:NYC Atheists In-Person Meeting\n1st & 4th Fridays: 7:00PM-9:00PM\nNYSEC Meeting House: Ceremonial Hall\nAll are welcome! \nBYOB (no hard liquors)/Potluck\nDonations Appreciated but Not Required \nDonate Here via Ethical NYC to Support this Event\nhttps://ethicalnyc.app.neoncrm.com/forms/54 \nClick on our calendar or Meetup page to get connected.\nDefault Location: \nNew York Society for Ethical Culture\n2 W 64th St\nNew York NY 10023-7179\n+1 (212) 874-5210\ninfo@nysec.org\nhttps://ethical.nyc/\nhttps://www.meetup.com/ethicalnyc/ \n\nLocation is subject to change for special events. Check website calendars and Meetup pages for various groups for updates and changes.\nDefault room is Ceremonial on the 4th Room is subject to change depending on capacity or activity. Check for any posted signs.\nUse the wheelchair ramp entrance at the Meeting House NOT the Fieldston School. Press both doorbells if the door is locked. The elevator and stairs are right there to take to the 4thfloor.\n\nClosest Transit: \n1: 66 St-Lincoln Center\nA\, B\, C\, D\, 1: 59 St-Columbus Circle\nM10: Central Park W/W 64 St\nM10\, M20: Central Park W/W 63 St\nM66: W 65 St/Central Park W\nM5\, M7\, M104: Broadway/W 63 St \nOur friends at various groups are cross-posting this event. Some groups have after-parties. \nHumanist Happy Hour\nBrooklyn Society for Ethical Culture\nhttps://bsec.org/events/\nhttps://www.meetup.com/brooklyn-society-for-ethical-culture/ \nDrinking Inquisitively\nCenter for Inquiry – NYC Branch\nhttps://cfi-nyc.org/\nhttps://www.meetup.com/cfinyc/ \nHumanist Happy Hour\nThe City Congregation for Humanistic Judaism\nhttps://citycongregation.org/events-calendar/ \nFTI: Thinkers Multi-group BYOB potluck\nFree Thinker Institute\nhttps://www.freethinkerinstitute.org/events/\nhttps://www.meetup.com/freethinkerinstitute/ \nLive DWA\nGotham Atheists\nhttps://gothamatheists.org/\nhttps://www.meetup.com/GothamAtheists/ \nHumanist Happy Hour\nNew York Society for Ethical Culture\nhttps://ethical.nyc/events\nhttps://www.meetup.com/ethicalnyc/ \nNYC Atheists In-Person Meeting\nhttps://nycatheists.org/calendar/\nhttps://www.meetup.com/nycatheists/ \nCross-group Happy Hour at Ethical Culture\nSecular Humanists Society of New York\nhttps://www.shsny.org/events-calendar\nhttps://www.meetup.com/shsny-org/ \nRULES for In-Person Meeting: \n\nGROUP PROMOTION: Each group may bring flyers or posters advertising membership\, donations\, and meetings.\nDRINKING: Bring your own booze should be limited to beer and wine\, no hard liquors. Everyone should drink responsibly and don’t get sloshed. Save the hard drinking for the after parties in outside bars.\nRESPECT FOR DIFFERENCES: While there is overlap among the groups\, not every group is the same and thinks the same. Respect each other’s differences and different ideologies. Look for common ground not for things to hate. We’re all friends here\, treat each other as such.\nARGUMENTS: Listen to each other’s opinion completely in good faith. Ask questions about other’s points instead of immediately dismissing. Approach taboo subjects–such as sex\, religion\, and politics–with strangers cautiously; back out if getting heated. Agree to disagree and walk away if necessary.\nRESPECT FOR THE MEETING HOUSE: Use appropriate trash/recycling cans and clean up after yourselves. Leave the Meeting House better than you found it. Respect the neighborhood\, don’t act foolishly on the streets when entering and leaving or loitering.\nNO ELECTIONEERING: Due to tax restrictions for many groups being §501(c)(3) tax-exempt\, do not discuss\, promote\, denigrate\, or leave/display/hand out materials for any candidate\, campaign\, party\, or proposition on any upcoming election. No electioneering during the event. Other activities prohibited by tax-restrictions are also not allowed.\nSELF-RECOGNITION: Try to speak from your own experiences and own your intentions and impacts. Recognize your own privileges and different backgrounds.\nCONFIDENTIALITY: Meetings are private despite being open to the public. Recordings are prohibited. You may share what you learned\, but not direct quotes and identities.\nMEETING MODERATION: The organizers\, hosts\, co-hosts\, moderators\, and discussion leaders will use various methods available to ensure compliance with the rules and maintain decorum.\n\nAttending any meeting or event implies agreement with the above rules.
URL:https://nycatheists.org/event/in-person-meeting-2-2024-11-22-2024-12-27-2/
LOCATION:NYSEC Meeting House: Ceremonial Hall\, 2 W 64th St\, New York\, NY\, 10023-7179\, United States
CATEGORIES:ALL,In-Person
END:VEVENT
END:VCALENDAR