BEGIN:VCALENDAR
VERSION:2.0
PRODID:-//NYC Atheists - ECPv6.15.10//NONSGML v1.0//EN
CALSCALE:GREGORIAN
METHOD:PUBLISH
X-ORIGINAL-URL:https://nycatheists.org
X-WR-CALDESC:Events for NYC Atheists
REFRESH-INTERVAL;VALUE=DURATION:PT1H
X-Robots-Tag:noindex
X-PUBLISHED-TTL:PT1H
BEGIN:VTIMEZONE
TZID:America/New_York
BEGIN:DAYLIGHT
TZOFFSETFROM:-0500
TZOFFSETTO:-0400
TZNAME:EDT
DTSTART:20230312T070000
END:DAYLIGHT
BEGIN:STANDARD
TZOFFSETFROM:-0400
TZOFFSETTO:-0500
TZNAME:EST
DTSTART:20231105T060000
END:STANDARD
BEGIN:DAYLIGHT
TZOFFSETFROM:-0500
TZOFFSETTO:-0400
TZNAME:EDT
DTSTART:20240310T070000
END:DAYLIGHT
BEGIN:STANDARD
TZOFFSETFROM:-0400
TZOFFSETTO:-0500
TZNAME:EST
DTSTART:20241103T060000
END:STANDARD
BEGIN:DAYLIGHT
TZOFFSETFROM:-0500
TZOFFSETTO:-0400
TZNAME:EDT
DTSTART:20250309T070000
END:DAYLIGHT
BEGIN:STANDARD
TZOFFSETFROM:-0400
TZOFFSETTO:-0500
TZNAME:EST
DTSTART:20251102T060000
END:STANDARD
END:VTIMEZONE
BEGIN:VEVENT
DTSTART;TZID=America/New_York:20240802T190000
DTEND;TZID=America/New_York:20240802T210000
DTSTAMP:20260420T101738
CREATED:20240417T053114Z
LAST-MODIFIED:20241111T055822Z
UID:44477-1722625200-1722632400@nycatheists.org
SUMMARY:In-Person Meeting
DESCRIPTION:NYC Atheists In-Person Meeting\n1st & 4th Fridays: 7:00PM-9:00PM\nNYSEC Meeting House: Ceremonial Hall\nAll are welcome! \nBYOB (no hard liquors)/Potluck\nDonations Appreciated but Not Required \nDonate Here via Ethical NYC to Support this Event\nhttps://ethicalnyc.app.neoncrm.com/forms/54 \nClick on our calendar or Meetup page to get connected.\nDefault Location: \nNew York Society for Ethical Culture\n2 W 64th St\nNew York NY 10023-7179\n+1 (212) 874-5210\ninfo@nysec.org\nhttps://ethical.nyc/\nhttps://www.meetup.com/ethicalnyc/ \n\nLocation is subject to change for special events. Check website calendars and Meetup pages for various groups for updates and changes.\nDefault room is Ceremonial on the 4th Room is subject to change depending on capacity or activity. Check for any posted signs.\nUse the wheelchair ramp entrance at the Meeting House NOT the Fieldston School. Press both doorbells if the door is locked. The elevator and stairs are right there to take to the 4thfloor.\n\nClosest Transit: \n1: 66 St-Lincoln Center\nA\, B\, C\, D\, 1: 59 St-Columbus Circle\nM10: Central Park W/W 64 St\nM10\, M20: Central Park W/W 63 St\nM66: W 65 St/Central Park W\nM5\, M7\, M104: Broadway/W 63 St \nOur friends at various groups are cross-posting this event. Some groups have after-parties. \nDrinking Inquisitively\nCenter for Inquiry – NYC Branch\nhttps://cfi-nyc.org/\nhttps://www.meetup.com/cfinyc/ \nHumanist Happy Hour\nThe City Congregation for Humanistic Judaism\nhttps://citycongregation.org/events-calendar/ \nFTI: Thinkers Multi-group BYOB potluck\nFree Thinker Institute\nhttps://www.freethinkerinstitute.org/events/\nhttps://www.meetup.com/freethinkerinstitute/ \nLive DWA\nGotham Atheists\nhttps://gothamatheists.org/\nhttps://www.meetup.com/GothamAtheists/ \nHumanist Happy Hour\nNew York Society for Ethical Culture\nhttps://ethical.nyc/events\nhttps://www.meetup.com/ethicalnyc/ \nNYC Atheists In-Person Meeting\nhttps://nycatheists.org/calendar/\nhttps://www.meetup.com/nycatheists/ \nCross-group Happy Hour at Ethical Culture\nSecular Humanists Society of New York\nhttps://www.shsny.org/events-calendar\nhttps://www.meetup.com/shsny-org/ \nRULES for In-Person Meeting: \n\nGROUP PROMOTION: Each group may bring flyers or posters advertising membership\, donations\, and meetings.\nDRINKING: Bring your own booze should be limited to beer and wine\, no hard liquors. Everyone should drink responsibly and don’t get sloshed. Save the hard drinking for the after parties in outside bars.\nRESPECT FOR DIFFERENCES: While there is overlap among the groups\, not every group is the same and thinks the same. Respect each other’s differences and different ideologies. Look for common ground not for things to hate. We’re all friends here\, treat each other as such.\nARGUMENTS: Listen to each other’s opinion completely in good faith. Ask questions about other’s points instead of immediately dismissing. Approach taboo subjects–such as sex\, religion\, and politics–with strangers cautiously; back out if getting heated. Agree to disagree and walk away if necessary.\nRESPECT FOR THE MEETING HOUSE: Use appropriate trash/recycling cans and clean up after yourselves. Leave the Meeting House better than you found it. Respect the neighborhood\, don’t act foolishly on the streets when entering and leaving or loitering.\nNO ELECTIONEERING: Due to tax restrictions for many groups being §501(c)(3) tax-exempt\, do not discuss\, promote\, denigrate\, or leave/display/hand out materials for any candidate\, campaign\, party\, or proposition on any upcoming election. No electioneering during the event. Other activities prohibited by tax-restrictions are also not allowed.\nSELF-RECOGNITION: Try to speak from your own experiences and own your intentions and impacts. Recognize your own privileges and different backgrounds.\nCONFIDENTIALITY: Meetings are private despite being open to the public. Recordings are prohibited. You may share what you learned\, but not direct quotes and identities.\nMEETING MODERATION: The organizers\, hosts\, co-hosts\, moderators\, and discussion leaders will use various methods available to ensure compliance with the rules and maintain decorum.\n\nAttending any meeting or event implies agreement with the above rules.
URL:https://nycatheists.org/event/in-person-meeting-2-2024-08-02/
LOCATION:NYSEC Meeting House: Ceremonial Hall\, 2 W 64th St\, New York\, NY\, 10023-7179\, United States
CATEGORIES:ALL,In-Person
END:VEVENT
BEGIN:VEVENT
DTSTART;TZID=America/New_York:20240809T190000
DTEND;TZID=America/New_York:20240809T200000
DTSTAMP:20260420T101738
CREATED:20240417T053601Z
LAST-MODIFIED:20240417T053601Z
UID:44678-1723230000-1723233600@nycatheists.org
SUMMARY:In-Person Meeting
DESCRIPTION:NYC Atheists In-Person Meeting\n2nd Fridays: 7:00PM – 8:00PM\nGramercy Park Towers\n\nBELIEVE IN GOD · LOSE ALL REALITY\nThe Atheists/Secular Meetup\nAll are welcome!\nIncluding those who are not Atheists and are inquiring. Agnostics\, non-theists\, freethinkers\, and theists\, too!\nAtheism is not a belief\, a religion\, a faith\, or an opinion. It is a conclusion. \nBYOB (no hard liquors)/Potluck\nPizza Provided by NYC Atheists\nDonations Appreciated but Not Required \nClick on our calendar or Meetup page to get connected.\nDefault Location: \n205 3rd Ave Apt 6H\nNew York NY 10003-2542\nBetween 18th &19th Streets \n\nLocation is subject to change. Check our website calendar and Meetup pages for NYC Atheists and Gotham Atheists for updates and changes.\n\nClosest Transit: \nM101\, M102\, M103: 3rd Av/E 17th St\nM15: 2nd Av/E 20th St\nM14A-SBS\, M14D-SBS: E 14 St/3 Av\, E 14 St/Irving Pl\nM1\, M2\, M3: Union Sq E/E 15 St\nL: 3rd Av\n4\, 5\, 6\, N\, R\, Q\, W: 14 St–Union Sq \nOur friends at Gotham Atheists are having a back-to-back meeting after this event\, 8:00PM-11PM. Feel free to stick around for their meeting. \nLive DWA\nGotham Atheists\nhttps://gothamatheists.org/\nhttps://www.meetup.com/GothamAtheists/ \nRULES \nMeetings are private despite being open to the public. Recordings are prohibited. You may share what you learned\, but not direct quotes and identities. \nLet it be known and agreed upon\, that NYC Atheists Inc. is a § 501(c)(3) non-partisan\, nonprofit educational organization. We are obligated to follow all the rules required by the IRS. Therefore\, according to the IRS\, There will be NO ELECTIONEERING either by discussing or by electronic means of either approving or disapproving a “Candidate or any Process” thereof as written in the IRS’s § 501(c)(3) requirements. Otherwise\, at our discretion only\, we will stop the unapproved discussion and or electronic display by the individual we feel is at fault for that action. If one persists in going against this bylaw or is very disruptive\, that we have the right to remove that person or persons from our meetings and report them to the appropriate authorities. \nBy joining in our meeting\, you have agreed to follow the above Statement.
URL:https://nycatheists.org/event/in-person-meeting-3-2024-08-09/
LOCATION:Gramercy Park Towers\, 205 3rd Ave Apt 6H\, New York\, NY\, 10003-2542\, United States
CATEGORIES:ALL,In-Person
END:VEVENT
BEGIN:VEVENT
DTSTART;TZID=America/New_York:20240823T190000
DTEND;TZID=America/New_York:20240823T210000
DTSTAMP:20260420T101738
CREATED:20240417T053114Z
LAST-MODIFIED:20241111T055822Z
UID:44478-1724439600-1724446800@nycatheists.org
SUMMARY:In-Person Meeting
DESCRIPTION:NYC Atheists In-Person Meeting\n1st & 4th Fridays: 7:00PM-9:00PM\nNYSEC Meeting House: Ceremonial Hall\nAll are welcome! \nBYOB (no hard liquors)/Potluck\nDonations Appreciated but Not Required \nDonate Here via Ethical NYC to Support this Event\nhttps://ethicalnyc.app.neoncrm.com/forms/54 \nClick on our calendar or Meetup page to get connected.\nDefault Location: \nNew York Society for Ethical Culture\n2 W 64th St\nNew York NY 10023-7179\n+1 (212) 874-5210\ninfo@nysec.org\nhttps://ethical.nyc/\nhttps://www.meetup.com/ethicalnyc/ \n\nLocation is subject to change for special events. Check website calendars and Meetup pages for various groups for updates and changes.\nDefault room is Ceremonial on the 4th Room is subject to change depending on capacity or activity. Check for any posted signs.\nUse the wheelchair ramp entrance at the Meeting House NOT the Fieldston School. Press both doorbells if the door is locked. The elevator and stairs are right there to take to the 4thfloor.\n\nClosest Transit: \n1: 66 St-Lincoln Center\nA\, B\, C\, D\, 1: 59 St-Columbus Circle\nM10: Central Park W/W 64 St\nM10\, M20: Central Park W/W 63 St\nM66: W 65 St/Central Park W\nM5\, M7\, M104: Broadway/W 63 St \nOur friends at various groups are cross-posting this event. Some groups have after-parties. \nDrinking Inquisitively\nCenter for Inquiry – NYC Branch\nhttps://cfi-nyc.org/\nhttps://www.meetup.com/cfinyc/ \nHumanist Happy Hour\nThe City Congregation for Humanistic Judaism\nhttps://citycongregation.org/events-calendar/ \nFTI: Thinkers Multi-group BYOB potluck\nFree Thinker Institute\nhttps://www.freethinkerinstitute.org/events/\nhttps://www.meetup.com/freethinkerinstitute/ \nLive DWA\nGotham Atheists\nhttps://gothamatheists.org/\nhttps://www.meetup.com/GothamAtheists/ \nHumanist Happy Hour\nNew York Society for Ethical Culture\nhttps://ethical.nyc/events\nhttps://www.meetup.com/ethicalnyc/ \nNYC Atheists In-Person Meeting\nhttps://nycatheists.org/calendar/\nhttps://www.meetup.com/nycatheists/ \nCross-group Happy Hour at Ethical Culture\nSecular Humanists Society of New York\nhttps://www.shsny.org/events-calendar\nhttps://www.meetup.com/shsny-org/ \nRULES for In-Person Meeting: \n\nGROUP PROMOTION: Each group may bring flyers or posters advertising membership\, donations\, and meetings.\nDRINKING: Bring your own booze should be limited to beer and wine\, no hard liquors. Everyone should drink responsibly and don’t get sloshed. Save the hard drinking for the after parties in outside bars.\nRESPECT FOR DIFFERENCES: While there is overlap among the groups\, not every group is the same and thinks the same. Respect each other’s differences and different ideologies. Look for common ground not for things to hate. We’re all friends here\, treat each other as such.\nARGUMENTS: Listen to each other’s opinion completely in good faith. Ask questions about other’s points instead of immediately dismissing. Approach taboo subjects–such as sex\, religion\, and politics–with strangers cautiously; back out if getting heated. Agree to disagree and walk away if necessary.\nRESPECT FOR THE MEETING HOUSE: Use appropriate trash/recycling cans and clean up after yourselves. Leave the Meeting House better than you found it. Respect the neighborhood\, don’t act foolishly on the streets when entering and leaving or loitering.\nNO ELECTIONEERING: Due to tax restrictions for many groups being §501(c)(3) tax-exempt\, do not discuss\, promote\, denigrate\, or leave/display/hand out materials for any candidate\, campaign\, party\, or proposition on any upcoming election. No electioneering during the event. Other activities prohibited by tax-restrictions are also not allowed.\nSELF-RECOGNITION: Try to speak from your own experiences and own your intentions and impacts. Recognize your own privileges and different backgrounds.\nCONFIDENTIALITY: Meetings are private despite being open to the public. Recordings are prohibited. You may share what you learned\, but not direct quotes and identities.\nMEETING MODERATION: The organizers\, hosts\, co-hosts\, moderators\, and discussion leaders will use various methods available to ensure compliance with the rules and maintain decorum.\n\nAttending any meeting or event implies agreement with the above rules.
URL:https://nycatheists.org/event/in-person-meeting-2-2024-08-23/
LOCATION:NYSEC Meeting House: Ceremonial Hall\, 2 W 64th St\, New York\, NY\, 10023-7179\, United States
CATEGORIES:ALL,In-Person
END:VEVENT
END:VCALENDAR