BEGIN:VCALENDAR
VERSION:2.0
PRODID:-//NYC Atheists - ECPv6.15.10//NONSGML v1.0//EN
CALSCALE:GREGORIAN
METHOD:PUBLISH
X-WR-CALNAME:NYC Atheists
X-ORIGINAL-URL:https://nycatheists.org
X-WR-CALDESC:Events for NYC Atheists
REFRESH-INTERVAL;VALUE=DURATION:PT1H
X-Robots-Tag:noindex
X-PUBLISHED-TTL:PT1H
BEGIN:VTIMEZONE
TZID:America/New_York
BEGIN:DAYLIGHT
TZOFFSETFROM:-0500
TZOFFSETTO:-0400
TZNAME:EDT
DTSTART:20140309T070000
END:DAYLIGHT
BEGIN:STANDARD
TZOFFSETFROM:-0400
TZOFFSETTO:-0500
TZNAME:EST
DTSTART:20141102T060000
END:STANDARD
BEGIN:DAYLIGHT
TZOFFSETFROM:-0500
TZOFFSETTO:-0400
TZNAME:EDT
DTSTART:20150308T070000
END:DAYLIGHT
BEGIN:STANDARD
TZOFFSETFROM:-0400
TZOFFSETTO:-0500
TZNAME:EST
DTSTART:20151101T060000
END:STANDARD
BEGIN:DAYLIGHT
TZOFFSETFROM:-0500
TZOFFSETTO:-0400
TZNAME:EDT
DTSTART:20160313T070000
END:DAYLIGHT
BEGIN:STANDARD
TZOFFSETFROM:-0400
TZOFFSETTO:-0500
TZNAME:EST
DTSTART:20161106T060000
END:STANDARD
BEGIN:DAYLIGHT
TZOFFSETFROM:-0500
TZOFFSETTO:-0400
TZNAME:EDT
DTSTART:20170312T070000
END:DAYLIGHT
BEGIN:STANDARD
TZOFFSETFROM:-0400
TZOFFSETTO:-0500
TZNAME:EST
DTSTART:20171105T060000
END:STANDARD
BEGIN:DAYLIGHT
TZOFFSETFROM:-0500
TZOFFSETTO:-0400
TZNAME:EDT
DTSTART:20180311T070000
END:DAYLIGHT
BEGIN:STANDARD
TZOFFSETFROM:-0400
TZOFFSETTO:-0500
TZNAME:EST
DTSTART:20181104T060000
END:STANDARD
END:VTIMEZONE
BEGIN:VEVENT
DTSTART;TZID=America/New_York:20170427T183000
DTEND;TZID=America/New_York:20170427T210000
DTSTAMP:20260419T080640
CREATED:20170402T032214Z
LAST-MODIFIED:20170402T032636Z
UID:36478-1493317800-1493326800@nycatheists.org
SUMMARY:April Monthly Meeting
DESCRIPTION:Host: Ken Bronstein \n\nSPEAKER: Mercer Brugler\, Ph.D.\nAssistant Professor of Organismal Biology – NYC College of Technology \nTOPIC: Explore the beautiful and unusual lifeforms that thrive on the sea floor! \nCruise with Dr. Brugler as he explores the unusual and beautiful life-forms that thrive on the ocean floor. Dive to ocean depths where no light penetrates and chemicals bubbling from cold seeps fuel strange ecosystems and undersea microbes convert methane into food via chemosynthesis. \n\nA $10 charge for this event is used to help cover the cost of the venue.
URL:https://nycatheists.org/event/monthly-meeting-2017-april/
LOCATION:SLC Conference Center\, 15 West 39th Street – 3rd Floor\, New York\, NY\, 10018\, United States
CATEGORIES:ALL,Thursday Monthly Meeting
END:VEVENT
BEGIN:VEVENT
DTSTART;TZID=America/New_York:20170330T183000
DTEND;TZID=America/New_York:20170330T210000
DTSTAMP:20260419T080640
CREATED:20170301T182400Z
LAST-MODIFIED:20170301T183335Z
UID:36423-1490898600-1490907600@nycatheists.org
SUMMARY:March Monthly Meeting
DESCRIPTION:Host: Ken Bronstein \n\nSPEAKER: Rafael O’Halloran\nAssistant Professor of Radiology\, Ichan School of Medicine at Mount Sinai \nTOPIC: Brain Imaging Technology\, Neurological and Psychological Diseases \n\nA $10 charge for this event is used to help cover the cost of the venue.
URL:https://nycatheists.org/event/monthly-meeting-2017-march/
LOCATION:SLC Conference Center\, 15 West 39th Street – 3rd Floor\, New York\, NY\, 10018\, United States
CATEGORIES:ALL,Thursday Monthly Meeting
END:VEVENT
BEGIN:VEVENT
DTSTART;TZID=America/New_York:20170223T183000
DTEND;TZID=America/New_York:20170223T210000
DTSTAMP:20260419T080640
CREATED:20170127T074309Z
LAST-MODIFIED:20170127T074645Z
UID:36170-1487874600-1487883600@nycatheists.org
SUMMARY:February Monthly Meeting
DESCRIPTION:Host: Ken Bronstein \n\nSPEAKER: KAREN GARST\, Ph.D  \nShe recently retired as executive director of the Oregon State Bar. She has a blog at http://www.faithlessfeminist.com and is on Facebook and YouTube as the Faithless Feminist. \n—————————————-  \nBOOK: Women Beyond Belief: Discovering Life without Religion \nThe book is a collection of personal essays from 22 women from diverse backgrounds who tell their stories of leaving religion. From various Judeo-Christian traditions\, they talk about the shame\, guilt\, and oppression religion imposed on them and how they freed themselves from its grip.  \n\nA $10 charge for this event is used to help cover the cost of the venue.
URL:https://nycatheists.org/event/monthly-meeting-2017-february/
LOCATION:SLC Conference Center\, 15 West 39th Street – 3rd Floor\, New York\, NY\, 10018\, United States
CATEGORIES:ALL,Thursday Monthly Meeting
END:VEVENT
BEGIN:VEVENT
DTSTART;TZID=America/New_York:20170126T183000
DTEND;TZID=America/New_York:20170126T210000
DTSTAMP:20260419T080640
CREATED:20161207T052846Z
LAST-MODIFIED:20161219T185015Z
UID:36038-1485455400-1485464400@nycatheists.org
SUMMARY:January Monthly Meeting
DESCRIPTION:Host: Ken Bronstein \n\nSpeaker:  Julien Musolino Ph.D.\, Associate Professor of Cognitive Psychology and Psycholinguistics at Rutgers University \nTopic:  The Soul Fallacy: What Science Shows We Gain From Letting Go of Our Soul Beliefs \n\nA $10 charge for this event is used to help cover the cost of the venue.
URL:https://nycatheists.org/event/monthly-meeting-2017-january/
LOCATION:SLC Conference Center\, 15 West 39th Street – 3rd Floor\, New York\, NY\, 10018\, United States
CATEGORIES:ALL,Thursday Monthly Meeting
END:VEVENT
BEGIN:VEVENT
DTSTART;TZID=America/New_York:20161117T183000
DTEND;TZID=America/New_York:20161117T210000
DTSTAMP:20260419T080640
CREATED:20161105T140917Z
LAST-MODIFIED:20161105T141134Z
UID:35964-1479407400-1479416400@nycatheists.org
SUMMARY:November Monthly Meeting
DESCRIPTION:Host: Ken Bronstein \n\nSpeaker: Jon McGinn \nTopic: CRISPR: All about this world-changing genome editing technique. \n\nA $10 charge for this event is used to help cover the cost of the venue.
URL:https://nycatheists.org/event/monthly-meeting-2016-november/
LOCATION:SLC Conference Center\, 15 West 39th Street – 3rd Floor\, New York\, NY\, 10018\, United States
CATEGORIES:ALL,Thursday Monthly Meeting
END:VEVENT
BEGIN:VEVENT
DTSTART;TZID=America/New_York:20161027T183000
DTEND;TZID=America/New_York:20161027T210000
DTSTAMP:20260419T080640
CREATED:20160927T181303Z
LAST-MODIFIED:20161003T163839Z
UID:35833-1477593000-1477602000@nycatheists.org
SUMMARY:October Monthly Meeting
DESCRIPTION:Host: Ken Bronstein \n\nSpeaker: Kelly McBride Folkers \nTopic: About the Zika virus and the ethical issues it creates \n\nA $10 charge for this event is used to help cover the cost of the venue.
URL:https://nycatheists.org/event/monthly-meeting-2016-october/
LOCATION:SLC Conference Center\, 15 West 39th Street – 3rd Floor\, New York\, NY\, 10018\, United States
CATEGORIES:ALL,Thursday Monthly Meeting
END:VEVENT
BEGIN:VEVENT
DTSTART;TZID=America/New_York:20160929T183000
DTEND;TZID=America/New_York:20160929T210000
DTSTAMP:20260419T080640
CREATED:20160830T195456Z
LAST-MODIFIED:20160830T195839Z
UID:35269-1475173800-1475182800@nycatheists.org
SUMMARY:September Monthly Meeting
DESCRIPTION:Host: Ken Bronstein \n\nSpeaker: Glennys Farrar\, Ph.D.\, Professor of Physics\, NYU \nTopic: Dark Matter and Dark Energy \n\nA $10 charge for this event is used to help cover the cost of the venue.
URL:https://nycatheists.org/event/monthly-meeting-2016-september/
LOCATION:SLC Conference Center\, 15 West 39th Street – 3rd Floor\, New York\, NY\, 10018\, United States
CATEGORIES:ALL,Thursday Monthly Meeting
END:VEVENT
BEGIN:VEVENT
DTSTART;TZID=America/New_York:20160728T183000
DTEND;TZID=America/New_York:20160728T210000
DTSTAMP:20260419T080640
CREATED:20160608T023828Z
LAST-MODIFIED:20160725T140404Z
UID:32213-1469730600-1469739600@nycatheists.org
SUMMARY:July Monthly Meeting
DESCRIPTION:Host: Ken Bronstein \n\nProgram: The Search for the Higgs Boson \n\nJoin us to watch the outstanding PBS video Particle Fever about the search for the Higgs Boson. \n\nAs the Large Hadron Collider (CERN) is about to be launched for the first time\, physicists are on the cusp of the greatest scientific discovery of all time — or perhaps their greatest failure. \n\nImagine being able to watch as Edison turned on the first light bulb\, or as Franklin received his first jolt of electricity. “Particle Fever” gives audiences a front row seat to this historic and inspiring scientific breakthrough as it happens. The documentary follows six brilliant scientists during the launch of the Large Hadron Collider\, marking the start-up of the biggest and most expensive experiment in the history of the planet\, pushing the edge of human innovation. \n\nAs they seek to unravel the mysteries of the universe\, 10\,000 scientists from over 100 countries joined forces in pursuit of a single goal: to recreate conditions that existed just moments after the Big Bang and find the Higgs boson\, potentially explaining the origin of all matter. But our heroes confront an even bigger challenge: have we reached our limit in understanding why we exist? \n\nDirected by Mark Levinson\, a physicist turned filmmaker\, from the inspiration and initiative of producer David Kaplan and masterfully edited by Walter Murch (Apocalypse Now\, The English Patient\, The Godfather trilogy)\, Particle Fever is a celebration of discovery\, revealing the very human stories behind this epic machine. \n\nA $10 charge for this event is used to help cover the cost of the venue.
URL:https://nycatheists.org/event/monthly-meeting-2016-july/
LOCATION:SLC Conference Center\, 15 West 39th Street – 3rd Floor\, New York\, NY\, 10018\, United States
CATEGORIES:ALL,Thursday Monthly Meeting
END:VEVENT
BEGIN:VEVENT
DTSTART;TZID=America/New_York:20160630T183000
DTEND;TZID=America/New_York:20160630T210000
DTSTAMP:20260419T080640
CREATED:20160531T130147Z
LAST-MODIFIED:20160531T131759Z
UID:32119-1467311400-1467320400@nycatheists.org
SUMMARY:June Monthly Meeting
DESCRIPTION:Host: Ken Bronstein \n\nSpeaker: Abby Hafer from Curry College\, Department of Human Anatomy and Physiology\n\nAbby Hafer is a speaker\, writer and humorist who particularly loves taking on Intelligent Design\, Creationism\, the politics surrounding them\, and science denialism in general.\nA few years ago\, she realized that Intelligent Design is a political pressure group\, not a scientific issue. With this figured out\, she realized that what we need are political-style arguments in defense of evolution. Her presentations contain bulletproof science\, but are short\, easy to understand\, easy to repeat\, and make the opposition look bad. She uses humor to puncture bad arguments.\n\nTopic: Unintelligent Design: Why Evolution Explains the Human Body and “Intelligent Design” Does Not\n\nDr. Hafer argues that the human body\, though no less beautiful or marvelous for being flawed\, has many faulty design features that would never have been the choice of an intelligent creator. In addition to pointing out problematic aspects of human anatomy\, Dr. Hafer also gives examples of solutions to these problems that are found in other members of the animal kingdom. She then asks why other animals got better body parts than humans did\, and wonders if this means that the designer prefers other animals to human beings. She also deals quickly and comprehensively with the idea of irreducible complexity.\n\nA $10 charge for this event is used to help cover the cost of the venue.
URL:https://nycatheists.org/event/monthly-meeting-2016-june/
LOCATION:SLC Conference Center\, 15 West 39th Street – 3rd Floor\, New York\, NY\, 10018\, United States
CATEGORIES:ALL,Thursday Monthly Meeting
END:VEVENT
BEGIN:VEVENT
DTSTART;TZID=America/New_York:20160526T183000
DTEND;TZID=America/New_York:20160526T210000
DTSTAMP:20260419T080640
CREATED:20160501T180718Z
LAST-MODIFIED:20160510T151607Z
UID:31689-1464287400-1464296400@nycatheists.org
SUMMARY:May Monthly Meeting
DESCRIPTION:Topic: Deconstructing “G-d Bless America” \nHost: Ken Bronstein\n\n\nThe speaker will be Tim Law\, investigative reporter in the fields of law and the environment as well as a participant in the social media culture war.
URL:https://nycatheists.org/event/monthly-meeting-2016-may/
LOCATION:SLC Conference Center\, 15 West 39th Street – 3rd Floor\, New York\, NY\, 10018\, United States
CATEGORIES:ALL,Thursday Monthly Meeting
END:VEVENT
BEGIN:VEVENT
DTSTART;TZID=America/New_York:20160428T183000
DTEND;TZID=America/New_York:20160428T210000
DTSTAMP:20260419T080640
CREATED:20160331T173357Z
LAST-MODIFIED:20160401T170213Z
UID:31430-1461868200-1461877200@nycatheists.org
SUMMARY:April Monthly Meeting
DESCRIPTION:We will watch and then discuss the History Channel’s How the Earth was Made. \nHost: Ken Bronstein\n\nBuilt on the remains of mountains that 450 million years ago were as tall as the Himalayas\, New York is one of the most man-made spaces on the planet. Learn how everything about it – from the height of its skyscrapers to the position of its harbor – is governed by the amazing forces that shaped it.
URL:https://nycatheists.org/event/monthly-meeting-2016-apr/
LOCATION:SLC Conference Center\, 15 West 39th Street – 3rd Floor\, New York\, NY\, 10018\, United States
CATEGORIES:ALL,Thursday Monthly Meeting
END:VEVENT
BEGIN:VEVENT
DTSTART;TZID=America/New_York:20160331T183000
DTEND;TZID=America/New_York:20160331T210000
DTSTAMP:20260419T080640
CREATED:20160303T022218Z
LAST-MODIFIED:20160331T174849Z
UID:30999-1459449000-1459458000@nycatheists.org
SUMMARY:March Monthly Meeting
DESCRIPTION:  \nTopic:\nHow Did Life Emerge on Earth?\n\nWe will watch and discuss a fabulous PBS Nova video “Life’s Rocky Start”. Four and a half billion years ago\, the young Earth was a hellish place – a seething chaos of meteorite impacts\, volcanoes belching noxious gases\, and lightning flashing through a thin\, torrid atmosphere.  Then\, in a process that has puzzled scientists for decades\, life emerged.  But how?
URL:https://nycatheists.org/event/monthly-meeting-2016-mar/
LOCATION:SLC Conference Center\, 15 West 39th Street – 3rd Floor\, New York\, NY\, 10018\, United States
CATEGORIES:ALL,Thursday Monthly Meeting
END:VEVENT
BEGIN:VEVENT
DTSTART;TZID=America/New_York:20160225T183000
DTEND;TZID=America/New_York:20160225T210000
DTSTAMP:20260419T080640
CREATED:20160219T035611Z
LAST-MODIFIED:20160219T041836Z
UID:30527-1456425000-1456434000@nycatheists.org
SUMMARY:February Monthly Meeting
DESCRIPTION:Celebrate Charles Darwin’s 209th Birthday!! \nSpeaker:\nJ. Bret Bennington Ph.D\nProfessor of Geology\, Environment\, and Sustainability\, Hofstra University\n\nTopic:\nLife of Charles Darwin\, Evolution and the Galapagos\n\nJ. Bret Bennington\, Ph.D.\, is a paleontologist with a strong interest in evolution and geology and is actively involved in the IDEAS Institute (Institute for the Development of Education in the Advanced Sciences). A multi-year veteran of the Galápagos Islands and Ecuador January trip\, Professor Bennington calls the program “the experience of a lifetime for students.”\n\n\nHis research in paleontology involves the quantitative analysis of the fossil record to learn about the evolution of ecological communities over long intervals of time. Other paleontology projects involve studies of marine ecosystems in the Devonian\, Carboniferous\, and Cretaceous periods\, as well as the statistical analysis of fossil footprints.\n\nTeaching activities include courses in physical geology\, historical geology\, dinosaurs\, hydrology\, geomorphology\, paleontology\, and Charles Darwin and evolution. Dr. Bennington also co-directs a study abroad program in the Galápagos Islands and Ecuador. He is a member of the Geological Society of America\, the Paleontological Society\, the Society for Economic Paleontology and Mineralogy\, and he is currently serving on the board of the New York State Council of Professional Geologists.
URL:https://nycatheists.org/event/monthly-meeting-2016-feb/
LOCATION:SLC Conference Center\, 15 West 39th Street – 3rd Floor\, New York\, NY\, 10018\, United States
CATEGORIES:ALL,Thursday Monthly Meeting
END:VEVENT
BEGIN:VEVENT
DTSTART;TZID=America/New_York:20160128T183000
DTEND;TZID=America/New_York:20160128T210000
DTSTAMP:20260419T080640
CREATED:20151231T035955Z
LAST-MODIFIED:20151231T041719Z
UID:29489-1454005800-1454014800@nycatheists.org
SUMMARY:January Monthly Meeting
DESCRIPTION:Speaker:\nMark Oppenheimer\, PhD\nReligion reporter at the New York Times\n\n\n\nTopic:\nAtheism and the Media\nMark Oppenheimer writes the biweekly Beliefs column for The New York Times. He also writes for The New York Times Magazine\, The Nation\, The Forward\, Tablet\, and Mother Jones. He is the author of three books\, including Knocking on Heaven’s Door: American Religion in the Age of Counterculture and Thirteen and a Day: The Bar and Bat Mitzvah Across America. At Yale\, he teaches in the English and Political Science departments as well as at the Divinity School\, and he directs the Yale Journalism Initiative. He is the recipient of the Koret Young Writer on Jewish Themes award and the Hiett Prize in the Humanities.
URL:https://nycatheists.org/event/monthly-meeting-2016-jan/
LOCATION:SLC Conference Center\, 15 West 39th Street – 3rd Floor\, New York\, NY\, 10018\, United States
CATEGORIES:ALL,Thursday Monthly Meeting
END:VEVENT
BEGIN:VEVENT
DTSTART;TZID=America/New_York:20151119T183000
DTEND;TZID=America/New_York:20151119T210000
DTSTAMP:20260419T080640
CREATED:20151017T174636Z
LAST-MODIFIED:20151105T150345Z
UID:27161-1447957800-1447966800@nycatheists.org
SUMMARY:November Monthly Meeting
DESCRIPTION:Speaker:\nJerry Coyne\, Ph.D.\nProfessor\, College of Ecology and Evolution\, Biological Sciences\n\nTopic:\nThe Best Answers I Have Heard About Atheism\nWe will listen to an interview by Brian Lehrer (WNYC) interviewing Coyne about Atheism. We will then Skype with Coyne for followup questions.\n\nNote that the meeting is a week earlier this month due to the Thanksgiving Holiday.
URL:https://nycatheists.org/event/monthly-meeting-2015-nov/
LOCATION:SLC Conference Center\, 15 West 39th Street – 3rd Floor\, New York\, NY\, 10018\, United States
CATEGORIES:ALL,Thursday Monthly Meeting
END:VEVENT
BEGIN:VEVENT
DTSTART;TZID=America/New_York:20151029T183000
DTEND;TZID=America/New_York:20151029T210000
DTSTAMP:20260419T080640
CREATED:20150830T220004Z
LAST-MODIFIED:20150929T023707Z
UID:26519-1446143400-1446152400@nycatheists.org
SUMMARY:October Monthly Meeting
DESCRIPTION:Host Ken Bronstein will give his monthly update. Then authors David Orenstein\, Ph.D. and Linda Blaikie\, LSCW\, will discuss their upcoming book:\n\nGodless Grace: How Non-Believers are Making the World Safer\, Richer and Kinder\n \n \n \n“Atheists and other nonbelievers are per se immoral. … Since god is the source of all morality\, it’s impossible for a nonbeliever to be a good person.” \nThat’s the conventional wisdom\, especially among fundamentalist Christians. And it’s utterly false. Authors David Orenstein and Linda Ford Blaikie disprove the smear in the most persuasive possible way: by telling the stories of dozens of real-life nonbelievers who devote their lives to doing good for others. \nOrenstein and Blaikie’s new book\, Godless Grace: How Nonbelievers Are Making the World Safer\, Richer and Kinder\, portrays nonbelievers both from America and around the world. \nSome examples: \nThe nonbeliever soldier\, who joined the army to fight religious fanaticism at age 40\, right after September 11 \nThe crusader against sexual harassment in Panama \nThe Filipino nurse practitioner who builds bridges between her humanist organization and religious groups to fight violence against LGBTQ individuals \nThe former Lutheran who took a pay cut to work as a paramedic so he could help others \nThe British survivor of priest sex abuse who now devotes her time to aiding other victims \nThe Hungarian who fights against the billion-dollar illegal wildlife trade in southeast Asia \nThe Argentine mechanical engineer who develops joint replacements in his day job\, and organizes nonbelievers – in the land of Pope Francis – in his spare time \nThe Canadian who developed an alternative to Alcoholics Anonymous for fellow nonbelievers \nOrenstein and Blaikie describe not only what these folks do\, but why. Hint: fear of hell has nothing to do with it! \nGoing beyond the individual profiles\, Godless Grace presents a comprehensive picture of nonbelief around the world and predicts where the movement is heading. With a forward by prominent secular professor Dr. Phil Zuckerman and an afterward by President of American Atheists David Silverman\, it is a must-read for anyone looking for definitive proof that people can be “good without a god.” \nGodless Grace: How Nonbelievers Are Making the World Safer\, Richer and Kinder will be available from Humanist Press in October 2015.
URL:https://nycatheists.org/event/monthly-meeting-2015-oct/
LOCATION:SLC Conference Center\, 15 West 39th Street – 3rd Floor\, New York\, NY\, 10018\, United States
CATEGORIES:ALL,Thursday Monthly Meeting
END:VEVENT
BEGIN:VEVENT
DTSTART;TZID=America/New_York:20150924T183000
DTEND;TZID=America/New_York:20150924T210000
DTSTAMP:20260419T080640
CREATED:20150808T042837Z
LAST-MODIFIED:20150918T014908Z
UID:31-1443119400-1443128400@nycatheists.org
SUMMARY:September Monthly Meeting
DESCRIPTION:SPEAKER: Kenneth Bronstein\, President NYC Atheists\nSUBJECT: You Are NYC Atheists’ Future! \nThis is a crucial meeting. We will discuss how our members will bring their skills and experience to participate in assuring our future. \nAlso crucial: Understanding that this is your path to taking leadership positions. We will explore options for future presidential succession. \nIf you care about this organization\, it’s time to take responsibility for its destiny. \nALL SHOULD ATTEND!
URL:https://nycatheists.org/event/monthly-meeting-2015-sep/
LOCATION:SLC Conference Center\, 15 West 39th Street – 3rd Floor\, New York\, NY\, 10018\, United States
CATEGORIES:ALL,Thursday Monthly Meeting
END:VEVENT
BEGIN:VEVENT
DTSTART;TZID=America/New_York:20150827T183000
DTEND;TZID=America/New_York:20150827T210000
DTSTAMP:20260419T080640
CREATED:20150808T042837Z
LAST-MODIFIED:20150918T015233Z
UID:25534-1440700200-1440709200@nycatheists.org
SUMMARY:August Monthly Meeting
DESCRIPTION:
URL:https://nycatheists.org/event/monthly-meeting-2/
LOCATION:SLC Conference Center\, 15 West 39th Street – 3rd Floor\, New York\, NY\, 10018\, United States
CATEGORIES:ALL,Thursday Monthly Meeting
END:VEVENT
END:VCALENDAR