BEGIN:VCALENDAR
VERSION:2.0
PRODID:-//NYC Atheists - ECPv6.15.10//NONSGML v1.0//EN
CALSCALE:GREGORIAN
METHOD:PUBLISH
X-WR-CALNAME:NYC Atheists
X-ORIGINAL-URL:https://nycatheists.org
X-WR-CALDESC:Events for NYC Atheists
REFRESH-INTERVAL;VALUE=DURATION:PT1H
X-Robots-Tag:noindex
X-PUBLISHED-TTL:PT1H
BEGIN:VTIMEZONE
TZID:America/New_York
BEGIN:DAYLIGHT
TZOFFSETFROM:-0500
TZOFFSETTO:-0400
TZNAME:EDT
DTSTART:20240310T070000
END:DAYLIGHT
BEGIN:STANDARD
TZOFFSETFROM:-0400
TZOFFSETTO:-0500
TZNAME:EST
DTSTART:20241103T060000
END:STANDARD
BEGIN:DAYLIGHT
TZOFFSETFROM:-0500
TZOFFSETTO:-0400
TZNAME:EDT
DTSTART:20250309T070000
END:DAYLIGHT
BEGIN:STANDARD
TZOFFSETFROM:-0400
TZOFFSETTO:-0500
TZNAME:EST
DTSTART:20251102T060000
END:STANDARD
BEGIN:DAYLIGHT
TZOFFSETFROM:-0500
TZOFFSETTO:-0400
TZNAME:EDT
DTSTART:20260308T070000
END:DAYLIGHT
BEGIN:STANDARD
TZOFFSETFROM:-0400
TZOFFSETTO:-0500
TZNAME:EST
DTSTART:20261101T060000
END:STANDARD
END:VTIMEZONE
BEGIN:VEVENT
DTSTART;TZID=America/New_York:20250530T190000
DTEND;TZID=America/New_York:20250530T220000
DTSTAMP:20260421T152336
CREATED:20250525T222700Z
LAST-MODIFIED:20250530T032851Z
UID:45569-1748631600-1748642400@nycatheists.org
SUMMARY:Special 5th Fridays In-Person Meeting - Cancelled for Rain\, Go to DWA instead
DESCRIPTION:The following event is cancelled for rain. Please\, go to the Live DWA from Gotham Atheists at The Irish Exit. \nPennsylvania Station Moynihan Train Hall Food Hall\nThe Irish Exit seating area\n421 8th Ave\nNew York NY 10001-7800\nhello@irishexit.com \nClosest Transit:\n1\,2\,3\,A\,C\,E: 34 St-Penn Station\nB\,D\,G\,M\,N\,Q\,R\,W: 34 St-Herald Square\nAmtrak\,LIRR\,NJT: Penn Station\nPATH: 33 St\nM34-SBS\,SIM23\,SIM24: W 34 St/8 Av\nM20: 8 Ave/W 31 St\nM11: 9 Ave/W 30 St\nM7: 7 Ave/W 31 St\nCoordinating Instructions:\nLook for Hoops & Yoyo plush dolls—a pink cat and green bunny. Ask for Harry. \nhttps://nycatheists.org/venue/dwa/ \nLive DWA – Gotham Atheists\nhttps://www.meetup.com/gothamatheists/events/308123898/ \nDrinking Inquisitively – Center for Inquiry-NYC Branch\nhttps://www.meetup.com/cfinyc/events/308127207/\nSpecial 5th Fridays NYC Atheists In-Person Meeting \nSpecial 5th Fridays: May 30 7:00PM-10:00PM\nBryant Park Winter Village \nAll are welcome! \nNO ALCOHOL!\nDonations Appreciated but Not Required \nDonate Here via Ethical NYC to Support this Event\nhttps://ethicalnyc.app.neoncrm.com/forms/54 \nClick on our calendar or Meetup page to get connected. \nSpecial Event:\nElectric Root: The Sound of (Black) Music\nhttps://bryantpark.org/calendar/event/electric-root-the-sound-of-black-music/2025-05-30\nBryant Park between 5th & 6th Aves and 40th & 42nd Sts in Manhattan NY 10018\nQ238+CP New York \nRules & Regulations – Bryant Park\nhttps://bryantpark.org/the-park/rules-and-regulations \nBryant Park Corporation\n1065 Avenue of the Americas Suite 2400\nNew York NY 10018 -0667\n+1 (212) 768-4242\ninfo@bryantpark.org\n@bryantparknyc \nCity of New York\, Department of Parks & Recreation\nArsenal Central Park\n830 5th Ave\nNew York NY 10065-7095\n+1 (212) 639-9675\nhttps://www.nycgovparks.org/parks/bryant-park\n@nycparks \n\nLocation is subject to change for weather. Check website calendars and Meetup pages for various groups for updates and changes.\nNo alcohol permitted! Bring food\, soft drinks\, and fabric only blankets. Free admission.\nHarry is the Point of Contact\, reachable at +1 (929) 251-3570. Call\, don’t text.\nMeet at the Bryant Park Lawn Blanket Zone\, likely South East corner. Check Meetup pages for exact location. Stragglers and lost people call Harry.\nAlternative indoor location will be the Whole Foods at 41st & 6th.\n\nClosest Transit:\n7: 5 Av\nB\,D\,F\,M: 42 St-Bryant Park\nN\,Q\,R\,W\,1\,2\,3\,A\,C\,E: Times Sq-42nd St\n4\,5\,6: Grand Central-42 St\nM42: W 42 St/6 Av \nOur friends at various groups are cross-posting this event. Some groups have after-parties. \nHumanist Happy Hour\nBrooklyn Society for Ethical Culture\nhttp://bsec.org/calendar-3/\nhttps://www.meetup.com/brooklyn-society-for-ethical-culture \nDrinking Inquisitively\nCenter for Inquiry – NYC Branch\nhttps://cfi-nyc.org/\nhttps://www.meetup.com/cfinyc/ \nHumanist Happy Hour\nThe City Congregation for Humanistic Judaism\nhttps://citycongregation.org/events-calendar/ \nFTI: Thinkers Multi-group BYOB potluck\nFree Thinkers Institute\nhttps://www.freethinkerinstitute.org/events/\nhttps://www.meetup.com/freethinkerinstitute/ \nLive DWA\nGotham Atheists\nhttps://gothamatheists.org/\nhttps://www.meetup.com/GothamAtheists/ \nHumanist Happy Hour\nNew York Society for Ethical Culture\nhttps://ethical.nyc/events\nhttps://www.meetup.com/ethicalnyc/ \nNYC Atheists In-Person Meeting\nhttps://nycatheists.org/calendar/\nhttps://www.meetup.com/nycatheists/ \nCross-group Happy Hour at Ethical Culture\nSecular Humanists Society of New York\nhttps://www.shsny.org/events-calendar\nhttps://www.meetup.com/shsny-org/ \nRULES for In-Person Meeting: \n\nGROUP PROMOTION: Each group may bring flyers or posters advertising membership\, donations\, and meetings.\nDRINKING: Bring your own booze should be limited to beer and wine\, no hard liquors. Everyone should drink responsibly and don’t get sloshed. Save the hard drinking for the after parties in outside bars.\nRESPECT FOR DIFFERENCES: While there is overlap among the groups\, not every group is the same and thinks the same. Respect each other’s differences and different ideologies. Look for common ground not for things to hate. We’re all friends here\, treat each other as such.\nARGUMENTS: Listen to each other’s opinion completely in good faith. Ask questions about other’s points instead of immediately dismissing. Approach taboo subjects–such as sex\, religion\, and politics–with strangers cautiously; back out if getting heated. Agree to disagree and walk away if necessary.\nRESPECT FOR THE MEETING HOUSE: Use appropriate trash/recycling cans and clean up after yourselves. Leave the Meeting House better than you found it. Respect the neighborhood\, don’t act foolishly on the streets when entering and leaving or loitering.\nNO ELECTIONEERING: Due to tax restrictions for many groups being §501(c)(3) tax-exempt\, do not discuss\, promote\, denigrate\, or leave/display/hand out materials for any candidate\, campaign\, party\, or proposition on any upcoming election. No electioneering during the event. Other activities prohibited by tax-restrictions are also not allowed.\nSELF-RECOGNITION: Try to speak from your own experiences and own your intentions and impacts. Recognize your own privileges and different backgrounds.\nCONFIDENTIALITY: Meetings are private despite being open to the public. Recordings are prohibited. You may share what you learned\, but not direct quotes and identities.\nMEETING MODERATION: The organizers\, hosts\, co-hosts\, moderators\, and discussion leaders will use various methods available to ensure compliance with the rules and maintain decorum.\n\nAttending any meeting or event implies agreement with the above rules.
URL:https://nycatheists.org/event/special-5th-friday-nyc-atheists-in-person-meeting-2/
LOCATION:DWA\, 23rd St Between Broadway & Madison Ave\, New York\, NY\, 10010\, United States
CATEGORIES:In-Person
END:VEVENT
END:VCALENDAR