BEGIN:VCALENDAR
VERSION:2.0
PRODID:-//NYC Atheists - ECPv6.15.10//NONSGML v1.0//EN
CALSCALE:GREGORIAN
METHOD:PUBLISH
X-ORIGINAL-URL:https://nycatheists.org
X-WR-CALDESC:Events for NYC Atheists
REFRESH-INTERVAL;VALUE=DURATION:PT1H
X-Robots-Tag:noindex
X-PUBLISHED-TTL:PT1H
BEGIN:VTIMEZONE
TZID:America/New_York
BEGIN:DAYLIGHT
TZOFFSETFROM:-0500
TZOFFSETTO:-0400
TZNAME:EDT
DTSTART:20230312T070000
END:DAYLIGHT
BEGIN:STANDARD
TZOFFSETFROM:-0400
TZOFFSETTO:-0500
TZNAME:EST
DTSTART:20231105T060000
END:STANDARD
BEGIN:DAYLIGHT
TZOFFSETFROM:-0500
TZOFFSETTO:-0400
TZNAME:EDT
DTSTART:20240310T070000
END:DAYLIGHT
BEGIN:STANDARD
TZOFFSETFROM:-0400
TZOFFSETTO:-0500
TZNAME:EST
DTSTART:20241103T060000
END:STANDARD
BEGIN:DAYLIGHT
TZOFFSETFROM:-0500
TZOFFSETTO:-0400
TZNAME:EDT
DTSTART:20250309T070000
END:DAYLIGHT
BEGIN:STANDARD
TZOFFSETFROM:-0400
TZOFFSETTO:-0500
TZNAME:EST
DTSTART:20251102T060000
END:STANDARD
END:VTIMEZONE
BEGIN:VEVENT
DTSTART;TZID=America/New_York:20240623T120000
DTEND;TZID=America/New_York:20240623T160000
DTSTAMP:20260422T094230
CREATED:20240612T002847Z
LAST-MODIFIED:20240616T212110Z
UID:44689-1719144000-1719158400@nycatheists.org
SUMMARY:Summer Solstice Party!
DESCRIPTION:Summer Solstice Party! \nSpecial 4th Sunday\, June 23: 12:00PM-04:00PM\nEllington in the Park \nAll are welcome! \nThis is a restaurant\, do not bring food or drink. \nDonations Appreciated but Not Required\nDonate Here via Ethical NYC to Support the Regular Friday Event\nhttps://ethicalnyc.app.neoncrm.com/forms/54 \nSpecial Location: \nEllington in the Park\n328 Riverside Dr\nNew York\, NY 10025-4154\n+1 (917) 280 4533\nhttps://www.ellingtoninthepark.com/\n@ellingtoninthepark\, @Ellingtonpark1 \n\nLocation is subject to change for weather. Check website calendars and Meetup pages for various groups for updates and changes.\nDo not bring food or drink! This is a restaurant. Free admission.\n·Meryl is the Point of Contact\, reachable at +1 (929) 251-3570.\nEnter the park at 103rd St. The restaurant Is inside the park at 105th St.\n·Look for Laurence from CFI-NYC\, likely with a paper sign that says Meetup. Check Meetup pages for exact location. Stragglers and lost people call Meryl.\n\nClosest Transit: \n1: 103 St \nM5: Riverside Dr/W 103 St\nM104: Broadway/W 103 St \nLaurence created this event for CFI-NYC and SHSNY. He invited our friends at various groups to cross-post this event. Some groups may have after-parties. \nSummer Solstice Party! (in Riverside Park with other secular groups)\nhttps://www.meetup.com/cfinyc/events/301505098/\nhttps://www.meetup.com/shsny-org/events/301504912/ \nDrinking Inquisitively\nCenter for Inquiry – NYC Branch\nhttps://cfi-nyc.org/\nhttps://www.meetup.com/cfinyc/ \nHumanist Happy Hour\nThe City Congregation for Humanistic Judaism\nhttps://citycongregation.org/events-calendar/ \nFTI: Summer Solstice Party for Thinkers\nFree Thinkers Institute\nhttps://www.freethinkerinstitute.org/events/\nhttps://www.meetup.com/freethinkerinstitute/ \nLiveDWA\nGotham Atheists\nhttps://gothamatheists.org/\nhttps://www.meetup.com/GothamAtheists/ \nHumanist Happy Hour\nNew York Society for Ethical Culture\nhttps://ethical.nyc/events\nhttps://www.meetup.com/ethicalnyc/ \nNYC Atheists In-Person Meeting\nhttps://nycatheists.org/calendar/\nhttps://www.meetup.com/nycatheists/ \nCross-group Happy Hour at Ethical Culture\nSecular Humanists Society of New York\nhttps://www.shsny.org/events-calendar\nhttps://www.meetup.com/shsny-org/ \nRULES for In-Person Meeting: \n\nGROUP PROMOTION: Each group may bring flyers or posters advertising membership\, donations\, and meetings.\n2.DRINKING: Bring your own booze should be limited to beer and wine\, no hard liquors. Everyone should drink responsibly and don’t get sloshed. Save the hard drinking for the after parties in outside bars.\n3.    RESPECT FOR DIFFERENCES: While there is overlap among the groups\, not every group is the same and thinks the same. Respect each other’s differences and different ideologies. Look for common ground not for things to hate. We’re all friends here\, treat each other as such.\n4.    ARGUMENTS: Listen to each other’s opinion completely in good faith. Ask questions about other’s points instead of immediately dismissing. Approach taboo subjects–such as sex\, religion\, and politics–with strangers cautiously; back out if getting heated. Agree to disagree and walk away if necessary.\n5.    RESPECT FOR THE MEETING HOUSE: Use appropriate trash/recycling cans and clean up after yourselves. Leave the Meeting House better than you found it. Respect the neighborhood\, don’t act foolishly on the streets when entering and leaving or loitering.\n6.    NO ELECTIONEERING: Due to tax restrictions for many groups being §501(c)(3) tax-exempt\, do not discuss\, promote\, denigrate\, or leave/display/hand out materials for any candidate\, campaign\, party\, or proposition on any upcoming election. No electioneering during the event. Other activities prohibited by tax-restrictions are also not allowed.\n7.    SELF-RECOGNITION: Try to speak from your own experiences and own your intentions and impacts. Recognize your own privileges and different backgrounds.\n8.    CONFIDENTIALITY: Meetings are private despite being open to the public. Recordings are prohibited. You may share what you learned\, but not direct quotes and identities.\n9.    MEETING MODERATION: The organizers\, hosts\, co-hosts\, moderators\, and discussion leaders will use various methods available to ensure compliance with the rules and maintain decorum.\n\nAttending any meeting or event implies agreement with the above rules.
URL:https://nycatheists.org/event/summer-solstice-party/
LOCATION:Ellington in the Park\, 328 Riverside Dr\, New York\, NY\, 10025-4154\, United States
CATEGORIES:In-Person
END:VEVENT
END:VCALENDAR