BEGIN:VCALENDAR
VERSION:2.0
PRODID:-//NYC Atheists - ECPv6.15.10//NONSGML v1.0//EN
CALSCALE:GREGORIAN
METHOD:PUBLISH
X-ORIGINAL-URL:https://nycatheists.org
X-WR-CALDESC:Events for NYC Atheists
REFRESH-INTERVAL;VALUE=DURATION:PT1H
X-Robots-Tag:noindex
X-PUBLISHED-TTL:PT1H
BEGIN:VTIMEZONE
TZID:America/New_York
BEGIN:DAYLIGHT
TZOFFSETFROM:-0500
TZOFFSETTO:-0400
TZNAME:EDT
DTSTART:20140309T070000
END:DAYLIGHT
BEGIN:STANDARD
TZOFFSETFROM:-0400
TZOFFSETTO:-0500
TZNAME:EST
DTSTART:20141102T060000
END:STANDARD
BEGIN:DAYLIGHT
TZOFFSETFROM:-0500
TZOFFSETTO:-0400
TZNAME:EDT
DTSTART:20150308T070000
END:DAYLIGHT
BEGIN:STANDARD
TZOFFSETFROM:-0400
TZOFFSETTO:-0500
TZNAME:EST
DTSTART:20151101T060000
END:STANDARD
BEGIN:DAYLIGHT
TZOFFSETFROM:-0500
TZOFFSETTO:-0400
TZNAME:EDT
DTSTART:20160313T070000
END:DAYLIGHT
BEGIN:STANDARD
TZOFFSETFROM:-0400
TZOFFSETTO:-0500
TZNAME:EST
DTSTART:20161106T060000
END:STANDARD
BEGIN:DAYLIGHT
TZOFFSETFROM:-0500
TZOFFSETTO:-0400
TZNAME:EDT
DTSTART:20170312T070000
END:DAYLIGHT
BEGIN:STANDARD
TZOFFSETFROM:-0400
TZOFFSETTO:-0500
TZNAME:EST
DTSTART:20171105T060000
END:STANDARD
END:VTIMEZONE
BEGIN:VEVENT
DTSTART;TZID=America/New_York:20160216T190000
DTEND;TZID=America/New_York:20160216T210000
DTSTAMP:20260419T091250
CREATED:20160123T182332Z
LAST-MODIFIED:20160216T200630Z
UID:29914-1455649200-1455656400@nycatheists.org
SUMMARY:February Discussion Night
DESCRIPTION:This Month’s Topics: \n1) The impact of Justice Scalia’s death.  \n2) The election season: who are the candidates we support and who are the ones we are terrified of? \nHost:  Lee Moore \nThe event is free\, but please purchase food or drink to compensate Stone Creek for the use of their space.
URL:https://nycatheists.org/event/discussion-night-2016-feb/
LOCATION:Stone Creek Bar and Lounge\, 140 East 27th St.\, New York\, NY\, 10016\, United States
CATEGORIES:ALL,Tuesday Discussion Night
END:VEVENT
BEGIN:VEVENT
DTSTART;TZID=America/New_York:20160120T190000
DTEND;TZID=America/New_York:20160120T210000
DTSTAMP:20260419T091250
CREATED:20151228T142320Z
LAST-MODIFIED:20160118T163744Z
UID:29418-1453316400-1453323600@nycatheists.org
SUMMARY:January Discussion Night
DESCRIPTION:This Month’s Topic: Building a stronger atheist community. \nHost:  Lee Moore \nThe event is free\, but please purchase food or drink to compensate Stone Creek for the use of their space.
URL:https://nycatheists.org/event/discussion-night-2016-jan-12/
LOCATION:Stone Creek Bar and Lounge\, 140 East 27th St.\, New York\, NY\, 10016\, United States
CATEGORIES:ALL,Tuesday Discussion Night
END:VEVENT
BEGIN:VEVENT
DTSTART;TZID=America/New_York:20151215T190000
DTEND;TZID=America/New_York:20151215T210000
DTSTAMP:20260419T091250
CREATED:20151201T160824Z
LAST-MODIFIED:20151201T161213Z
UID:28405-1450206000-1450213200@nycatheists.org
SUMMARY:December Discussion Night
DESCRIPTION:Diverse and Controversial Topics \nHost:  Lee Moore \nThe event is free\, but please purchase food or drink to compensate Stone Creek for the use of their space.
URL:https://nycatheists.org/event/discussion-night-2015-dec/
LOCATION:Stone Creek Bar and Lounge\, 140 East 27th St.\, New York\, NY\, 10016\, United States
CATEGORIES:ALL,Tuesday Discussion Night
END:VEVENT
BEGIN:VEVENT
DTSTART;TZID=America/New_York:20151117T190000
DTEND;TZID=America/New_York:20151117T210000
DTSTAMP:20260419T091250
CREATED:20151017T174430Z
LAST-MODIFIED:20151111T210721Z
UID:27159-1447786800-1447794000@nycatheists.org
SUMMARY:November Discussion Night
DESCRIPTION:What can the atheist community do to attract more female members? Join us to discuss and share ideas. \nHost:  Lee Moore \nThe event is free\, but please purchase food or drink to compensate Stone Creek for the use of their space.
URL:https://nycatheists.org/event/discussion-night-2015-nov/
LOCATION:Stone Creek Bar and Lounge\, 140 East 27th St.\, New York\, NY\, 10016\, United States
CATEGORIES:ALL,Tuesday Discussion Night
END:VEVENT
BEGIN:VEVENT
DTSTART;TZID=America/New_York:20151020T190000
DTEND;TZID=America/New_York:20151020T210000
DTSTAMP:20260419T091250
CREATED:20150830T215620Z
LAST-MODIFIED:20150918T014655Z
UID:26517-1445367600-1445374800@nycatheists.org
SUMMARY:October Discussion Night
DESCRIPTION:Michael tackles subjects as diverse and controversial as blasphemy and suing the Catholic Church. \nWhat will he challenge this month? It’s a surprise\, but rest assured that it will be fascinating\, audacious and provocative. \nHost:  Michael Dorian \nThe event is free\, but please purchase food or drink to compensate Stone Creek for the use of their space.
URL:https://nycatheists.org/event/discussion-night-2015-oct/
LOCATION:Stone Creek Bar and Lounge\, 140 East 27th St.\, New York\, NY\, 10016\, United States
CATEGORIES:ALL,Tuesday Discussion Night
END:VEVENT
BEGIN:VEVENT
DTSTART;TZID=America/New_York:20150915T190000
DTEND;TZID=America/New_York:20150915T210000
DTSTAMP:20260419T091250
CREATED:20150715T110037Z
LAST-MODIFIED:20150918T015054Z
UID:25533-1442343600-1442350800@nycatheists.org
SUMMARY:September Discussion Night
DESCRIPTION:Subject: Building the Atheists Voting Block \nRecent studies show that atheists\, along with agnostics\, non-affiliated\, nonreligious\, and “nones”\, constitute over 23% of potential voters and about 35% of 18-35 year old voters. Atheist voters outnumber Jews and Muslims and are almost as prevalent as Catholics. \nTo be competitive with the religious right\, we must develop an atheist voting block. \nHow do we do it? \nHost:  Michael Dorian \nGroup Leader: Lee Moore \nThe event is free\, but please purchase food or drink to compensate Stone Creek for the use of their space.
URL:https://nycatheists.org/event/discussion-night-2015-sep/
LOCATION:Stone Creek Bar and Lounge\, 140 East 27th St.\, New York\, NY\, 10016\, United States
CATEGORIES:ALL,Tuesday Discussion Night
END:VEVENT
BEGIN:VEVENT
DTSTART;TZID=America/New_York:20150818T190000
DTEND;TZID=America/New_York:20150818T210000
DTSTAMP:20260419T091250
CREATED:20150715T110037Z
LAST-MODIFIED:20150918T015357Z
UID:25423-1439924400-1439931600@nycatheists.org
SUMMARY:August Discussion Night
DESCRIPTION:
URL:https://nycatheists.org/event/september-discussion-night-2/
LOCATION:Stone Creek Bar and Lounge\, 140 East 27th St.\, New York\, NY\, 10016\, United States
CATEGORIES:ALL,Tuesday Discussion Night
END:VEVENT
END:VCALENDAR