BEGIN:VCALENDAR
VERSION:2.0
PRODID:-//NYC Atheists - ECPv6.15.10//NONSGML v1.0//EN
CALSCALE:GREGORIAN
METHOD:PUBLISH
X-ORIGINAL-URL:https://nycatheists.org
X-WR-CALDESC:Events for NYC Atheists
REFRESH-INTERVAL;VALUE=DURATION:PT1H
X-Robots-Tag:noindex
X-PUBLISHED-TTL:PT1H
BEGIN:VTIMEZONE
TZID:America/New_York
BEGIN:DAYLIGHT
TZOFFSETFROM:-0500
TZOFFSETTO:-0400
TZNAME:EDT
DTSTART:20180311T070000
END:DAYLIGHT
BEGIN:STANDARD
TZOFFSETFROM:-0400
TZOFFSETTO:-0500
TZNAME:EST
DTSTART:20181104T060000
END:STANDARD
BEGIN:DAYLIGHT
TZOFFSETFROM:-0500
TZOFFSETTO:-0400
TZNAME:EDT
DTSTART:20190310T070000
END:DAYLIGHT
BEGIN:STANDARD
TZOFFSETFROM:-0400
TZOFFSETTO:-0500
TZNAME:EST
DTSTART:20191103T060000
END:STANDARD
BEGIN:DAYLIGHT
TZOFFSETFROM:-0500
TZOFFSETTO:-0400
TZNAME:EDT
DTSTART:20200308T070000
END:DAYLIGHT
BEGIN:STANDARD
TZOFFSETFROM:-0400
TZOFFSETTO:-0500
TZNAME:EST
DTSTART:20201101T060000
END:STANDARD
END:VTIMEZONE
BEGIN:VEVENT
DTSTART;TZID=America/New_York:20191025T190000
DTEND;TZID=America/New_York:20191025T210000
DTSTAMP:20260424T123429
CREATED:20191024T173514Z
LAST-MODIFIED:20191024T173743Z
UID:40731-1572030000-1572037200@nycatheists.org
SUMMARY:October Film and Book Club
DESCRIPTION:Host:  David Orenstein\, PhD \nBook: Carl Sagan’s The Demon Haunted World: Science as a Candle in the Dark \nThe Demon-Haunted World: Science as a Candle in the Dark is a 1995 book by astrophysicist Carl Sagan\, in which the author aims to explain the scientific method to laypeople\, and to encourage people to learn critical and skeptical thinking. He explains methods to help distinguish between ideas that are considered valid science and those that can be considered pseudoscience. Sagan states that when new ideas are offered for consideration\, they should be tested by means of skeptical thinking and should stand up to rigorous questioning. \nCost: $10 to help cover cost of room rental
URL:https://nycatheists.org/event/book-club-2019-oct/
LOCATION:National Opera Center America\, 330 Seventh Avenue \, New York\, NY\, 10001\, United States
CATEGORIES:ALL,Friday Books and Films
END:VEVENT
END:VCALENDAR