BEGIN:VCALENDAR
VERSION:2.0
PRODID:-//NYC Atheists - ECPv6.15.10//NONSGML v1.0//EN
CALSCALE:GREGORIAN
METHOD:PUBLISH
X-ORIGINAL-URL:https://nycatheists.org
X-WR-CALDESC:Events for NYC Atheists
REFRESH-INTERVAL;VALUE=DURATION:PT1H
X-Robots-Tag:noindex
X-PUBLISHED-TTL:PT1H
BEGIN:VTIMEZONE
TZID:America/New_York
BEGIN:DAYLIGHT
TZOFFSETFROM:-0500
TZOFFSETTO:-0400
TZNAME:EDT
DTSTART:20180311T070000
END:DAYLIGHT
BEGIN:STANDARD
TZOFFSETFROM:-0400
TZOFFSETTO:-0500
TZNAME:EST
DTSTART:20181104T060000
END:STANDARD
BEGIN:DAYLIGHT
TZOFFSETFROM:-0500
TZOFFSETTO:-0400
TZNAME:EDT
DTSTART:20190310T070000
END:DAYLIGHT
BEGIN:STANDARD
TZOFFSETFROM:-0400
TZOFFSETTO:-0500
TZNAME:EST
DTSTART:20191103T060000
END:STANDARD
BEGIN:DAYLIGHT
TZOFFSETFROM:-0500
TZOFFSETTO:-0400
TZNAME:EDT
DTSTART:20200308T070000
END:DAYLIGHT
BEGIN:STANDARD
TZOFFSETFROM:-0400
TZOFFSETTO:-0500
TZNAME:EST
DTSTART:20201101T060000
END:STANDARD
END:VTIMEZONE
BEGIN:VEVENT
DTSTART;TZID=America/New_York:20190927T190000
DTEND;TZID=America/New_York:20190927T210000
DTSTAMP:20260424T142038
CREATED:20190924T193827Z
LAST-MODIFIED:20190924T194050Z
UID:40658-1569610800-1569618000@nycatheists.org
SUMMARY:September Film and Book Club
DESCRIPTION:Host:  David Orenstein\, PhD \nFilm: Creation \nCreation is a 2009 British biographical drama film about Charles Darwin’s relationship with his wife Emma and his memory of their eldest daughter Annie\, as he struggles to write On the Origin of Species. \nCost: $10 to help cover cost of room rental
URL:https://nycatheists.org/event/book-club-2019-sep/
LOCATION:National Opera Center America\, 330 Seventh Avenue \, New York\, NY\, 10001\, United States
CATEGORIES:ALL,Friday Books and Films
END:VEVENT
END:VCALENDAR